BEGIN:VCALENDAR
VERSION:2.0
PRODID:-//Almanzora - ECPv4.0.4//NONSGML v1.0//EN
CALSCALE:GREGORIAN
METHOD:PUBLISH
X-WR-CALNAME:Almanzora
X-ORIGINAL-URL:http://staging.almanzora.de
X-WR-CALDESC:Events for Almanzora
BEGIN:VEVENT
DTSTART;VALUE=DATE:20161029
DTEND;VALUE=DATE:20161106
DTSTAMP:20260422T215149
CREATED:20151214
LAST-MODIFIED:20151214
UID:199-1477699200-1478476799@staging.almanzora.de
SUMMARY:Albox: FERIA Y FIESTA DE LOS SANTOS
DESCRIPTION:
URL:http://staging.almanzora.de/fiestas/albox-feria-y-fiesta-de-los-santos
LOCATION:Albox\, 04800\, Spain
END:VEVENT
END:VCALENDAR