BEGIN:VCALENDAR
VERSION:2.0
PRODID:-//Almanzora - ECPv4.0.4//NONSGML v1.0//EN
CALSCALE:GREGORIAN
METHOD:PUBLISH
X-WR-CALNAME:Almanzora
X-ORIGINAL-URL:http://staging.almanzora.de
X-WR-CALDESC:Events for Almanzora
BEGIN:VEVENT
DTSTART;VALUE=DATE:20160924
DTEND;VALUE=DATE:20160924
DTSTAMP:20260421T171733
CREATED:20151214
LAST-MODIFIED:20151214
UID:257-1474675200-1474761599@staging.almanzora.de
SUMMARY:Rambla de Oria: VIRGEN DE LAS MERCEDES (Rambla de Oria)
DESCRIPTION:
URL:http://staging.almanzora.de/fiestas/rambla-de-oria-virgen-de-las-mercedes-rambla-de-oria
LOCATION:Plaza San Antonio  1\, Oria\, 04810 \, Spain
END:VEVENT
END:VCALENDAR