BEGIN:VCALENDAR
VERSION:2.0
PRODID:-//Almanzora - ECPv4.0.4//NONSGML v1.0//EN
CALSCALE:GREGORIAN
METHOD:PUBLISH
X-WR-CALNAME:Almanzora
X-ORIGINAL-URL:http://staging.almanzora.de
X-WR-CALDESC:Events for Almanzora
BEGIN:VEVENT
DTSTART;VALUE=DATE:20160723
DTEND;VALUE=DATE:20160723
DTSTAMP:20260422T060142
CREATED:20151214
LAST-MODIFIED:20151214
UID:235-1469232000-1469318399@staging.almanzora.de
SUMMARY:Fines: SAN JUAN
DESCRIPTION:
URL:http://staging.almanzora.de/fiestas/fines-san-juan
LOCATION:Plaza de la Constitucion  1\, Fines\, 04869\, Spain
END:VEVENT
END:VCALENDAR