BEGIN:VCALENDAR
VERSION:2.0
PRODID:-//Almanzora - ECPv4.0.4//NONSGML v1.0//EN
CALSCALE:GREGORIAN
METHOD:PUBLISH
X-WR-CALNAME:Almanzora
X-ORIGINAL-URL:http://staging.almanzora.de
X-WR-CALDESC:Events for Almanzora
BEGIN:VEVENT
DTSTART;VALUE=DATE:20160715
DTEND;VALUE=DATE:20160717
DTSTAMP:20260422T165045
CREATED:20151214
LAST-MODIFIED:20151214
UID:215-1468540800-1468799999@staging.almanzora.de
SUMMARY:El Prado: SANTA ANA (El Prado)
DESCRIPTION:
URL:http://staging.almanzora.de/fiestas/el-prado-santa-ana-el-prado
LOCATION:El Prado\, 04660\, Spain
END:VEVENT
BEGIN:VEVENT
DTSTART;VALUE=DATE:20160716
DTEND;VALUE=DATE:20160716
DTSTAMP:20260422T165045
CREATED:20151214
LAST-MODIFIED:20151214
UID:268-1468627200-1468713599@staging.almanzora.de
SUMMARY:Purchena: VIRGEN DEL CARMEN
DESCRIPTION:
URL:http://staging.almanzora.de/fiestas/purchena-virgen-del-carmen
LOCATION:Plaza Larga  1\, Purchena\, 04870 \, Spain
ORGANIZER;CN="Ayuntamiento%20de%20Purchena":MAILTO:info@juegosmoriscos.com 
END:VEVENT
BEGIN:VEVENT
DTSTART;VALUE=DATE:20160716
DTEND;VALUE=DATE:20160716
DTSTAMP:20260422T165045
CREATED:20151214
LAST-MODIFIED:20151214
UID:274-1468627200-1468713599@staging.almanzora.de
SUMMARY:Zoilos: VIRGEN DEL CARMEN (Zoilos)
DESCRIPTION:
URL:http://staging.almanzora.de/fiestas/zoilos-virgen-del-carmen-zoilos
LOCATION:Plaza Nueva  1\, 04890\, Spain
END:VEVENT
END:VCALENDAR