BEGIN:VCALENDAR
VERSION:2.0
PRODID:-//Almanzora - ECPv4.0.4//NONSGML v1.0//EN
CALSCALE:GREGORIAN
METHOD:PUBLISH
X-WR-CALNAME:Almanzora
X-ORIGINAL-URL:http://staging.almanzora.de
X-WR-CALDESC:Events for Almanzora
BEGIN:VEVENT
DTSTART;VALUE=DATE:20160624
DTEND;VALUE=DATE:20160626
DTSTAMP:20260423T230956
CREATED:20151214
LAST-MODIFIED:20151214
UID:250-1466726400-1466985599@staging.almanzora.de
SUMMARY:Vistabella: SAN LUIS (Vistabella)
DESCRIPTION:
URL:http://staging.almanzora.de/fiestas/vistabella-san-luis-vistabella
LOCATION:04860\, Spain
END:VEVENT
END:VCALENDAR