BEGIN:VCALENDAR
VERSION:2.0
PRODID:-//Almanzora - ECPv4.0.4//NONSGML v1.0//EN
CALSCALE:GREGORIAN
METHOD:PUBLISH
X-WR-CALNAME:Almanzora
X-ORIGINAL-URL:http://staging.almanzora.de
X-WR-CALDESC:Events for Almanzora
BEGIN:VEVENT
DTSTART;VALUE=DATE:20160425
DTEND;VALUE=DATE:20160425
DTSTAMP:20260421T235448
CREATED:20151214
LAST-MODIFIED:20151214
UID:223-1461542400-1461628799@staging.almanzora.de
SUMMARY:Bayarque: SAN MARCOS
DESCRIPTION:
URL:http://staging.almanzora.de/fiestas/bayarque-san-marcos
LOCATION:Plaza Benigno Asensio  6\, Bayarque\, 04888\, Spain
END:VEVENT
BEGIN:VEVENT
DTSTART;VALUE=DATE:20160425
DTEND;VALUE=DATE:20160425
DTSTAMP:20260421T235448
CREATED:20151214
LAST-MODIFIED:20151214
UID:242-1461542400-1461628799@staging.almanzora.de
SUMMARY:Macael: SAN MARCOS
DESCRIPTION:
URL:http://staging.almanzora.de/fiestas/macael-san-marcos
LOCATION:Macael\, 04867 \, Spain
END:VEVENT
BEGIN:VEVENT
DTSTART;VALUE=DATE:20160425
DTEND;VALUE=DATE:20160425
DTSTAMP:20260421T235448
CREATED:20151214
LAST-MODIFIED:20151214
UID:267-1461542400-1461628799@staging.almanzora.de
SUMMARY:Purchena: SAN MARCOS
DESCRIPTION:
URL:http://staging.almanzora.de/fiestas/purchena-san-marcos
LOCATION:Plaza Larga  1\, Purchena\, 04870 \, Spain
ORGANIZER;CN="Ayuntamiento%20de%20Purchena":MAILTO:info@juegosmoriscos.com 
END:VEVENT
END:VCALENDAR