BEGIN:VCALENDAR
VERSION:2.0
PRODID:-//Almanzora - ECPv4.0.4//NONSGML v1.0//EN
CALSCALE:GREGORIAN
METHOD:PUBLISH
X-WR-CALNAME:Almanzora
X-ORIGINAL-URL:http://staging.almanzora.de
X-WR-CALDESC:Events for Almanzora
BEGIN:VEVENT
DTSTART;VALUE=DATE:20160203
DTEND;VALUE=DATE:20160203
DTSTAMP:20260423T091058
CREATED:20151214
LAST-MODIFIED:20151214
UID:239-1454457600-1454543999@staging.almanzora.de
SUMMARY:Lijar: SAN BLAS
DESCRIPTION:
URL:http://staging.almanzora.de/fiestas/lijar-san-blas-2
LOCATION:Plaza la Paz  1\, Líjar\, Almería\, 04859\, España
END:VEVENT
BEGIN:VEVENT
DTSTART;VALUE=DATE:20160203
DTEND;VALUE=DATE:20160203
DTSTAMP:20260423T091058
CREATED:20151214
LAST-MODIFIED:20151214
UID:255-1454457600-1454543999@staging.almanzora.de
SUMMARY:Oria: SAN BLAS
DESCRIPTION:
URL:http://staging.almanzora.de/fiestas/oria-san-blas
LOCATION:Plaza San Antonio  1\, Oria\, Almería\, 04810 \, Spain
END:VEVENT
BEGIN:VEVENT
DTSTART;VALUE=DATE:20160203
DTEND;VALUE=DATE:20160203
DTSTAMP:20260423T091058
CREATED:20151214
LAST-MODIFIED:20151214
UID:278-1454457600-1454543999@staging.almanzora.de
SUMMARY:Sierro: SAN BLAS
DESCRIPTION:
URL:http://staging.almanzora.de/fiestas/sierro-san-blas
LOCATION:Sierro\, Almería\, 04878 \, Spain
END:VEVENT
END:VCALENDAR