BEGIN:VCALENDAR
VERSION:2.0
PRODID:-//Almanzora - ECPv4.0.4//NONSGML v1.0//EN
CALSCALE:GREGORIAN
METHOD:PUBLISH
X-WR-CALNAME:Almanzora
X-ORIGINAL-URL:http://staging.almanzora.de
X-WR-CALDESC:Events for Almanzora
BEGIN:VEVENT
DTSTART;VALUE=DATE:20160202
DTEND;VALUE=DATE:20160202
DTSTAMP:20260423T073742
CREATED:20151214
LAST-MODIFIED:20151214
UID:218-1454371200-1454457599@staging.almanzora.de
SUMMARY:Bacares: FIESTA DEL ROMERO
DESCRIPTION:
URL:http://staging.almanzora.de/fiestas/bacares-fiesta-del-romero
LOCATION:Plaza de los Filabres  7\, Bacares\, 04889\, Spain
ORGANIZER;CN="Ayuntamiento%20de%20Bacares":MAILTO:secretario@bacares.es
END:VEVENT
BEGIN:VEVENT
DTSTART;VALUE=DATE:20160202
DTEND;VALUE=DATE:20160202
DTSTAMP:20260423T073742
CREATED:20151214
LAST-MODIFIED:20151214
UID:236-1454371200-1454457599@staging.almanzora.de
SUMMARY:Laroya: LA CANDELARIA
DESCRIPTION:
URL:http://staging.almanzora.de/fiestas/laroya-la-candelaria
LOCATION:Plaza de la Constitucion  1\, Laroya\, 04868 \, Spain
END:VEVENT
BEGIN:VEVENT
DTSTART;VALUE=DATE:20160202
DTEND;VALUE=DATE:20160202
DTSTAMP:20260423T073742
CREATED:20151214
LAST-MODIFIED:20151214
UID:281-1454371200-1454457599@staging.almanzora.de
SUMMARY:Los Llanos: LA CANDELARIA (Los Llanos)
DESCRIPTION:
URL:http://staging.almanzora.de/fiestas/los-llanos-la-candelaria-los-llanos
LOCATION:Taberno\, 04692 \, Spain
END:VEVENT
END:VCALENDAR