BEGIN:VCALENDAR
VERSION:2.0
PRODID:-//Almanzora - ECPv4.0.4//NONSGML v1.0//EN
CALSCALE:GREGORIAN
METHOD:PUBLISH
X-WR-CALNAME:Almanzora
X-ORIGINAL-URL:http://staging.almanzora.de
X-WR-CALDESC:Events for Almanzora
BEGIN:VEVENT
DTSTART;VALUE=DATE:20160105
DTEND;VALUE=DATE:20160105
DTSTAMP:20260421T120751
CREATED:20151214
LAST-MODIFIED:20151214
UID:228-1451952000-1452038399@staging.almanzora.de
SUMMARY:Cantoria: CABALGATA DE REYES
DESCRIPTION:
URL:http://staging.almanzora.de/fiestas/cantoria-cabalgata-de-reyes
LOCATION:Cantoria\, 04850\, España
END:VEVENT
BEGIN:VEVENT
DTSTART;VALUE=DATE:20160105
DTEND;VALUE=DATE:20160105
DTSTAMP:20260421T120751
CREATED:20151214
LAST-MODIFIED:20151214
UID:232-1451952000-1452038399@staging.almanzora.de
SUMMARY:Cobdar: CABALGATA DE REYES
DESCRIPTION:
URL:http://staging.almanzora.de/fiestas/cobdar-cabalgata-de-reyes
LOCATION:Plaza de la Constitucion  1\, Cóbdar\, Almería\, 04859\, España
END:VEVENT
BEGIN:VEVENT
DTSTART;VALUE=DATE:20160105
DTEND;VALUE=DATE:20160105
DTSTAMP:20260421T120751
CREATED:20151214
LAST-MODIFIED:20151214
UID:241-1451952000-1452038399@staging.almanzora.de
SUMMARY:Macael: CABALGATA DE LOS REYES MAGOS
DESCRIPTION:
URL:http://staging.almanzora.de/fiestas/macael-cabalgata-de-los-reyes-magos
LOCATION:Macael\, 04867 \, Spain
END:VEVENT
BEGIN:VEVENT
DTSTART;VALUE=DATE:20160105
DTEND;VALUE=DATE:20160105
DTSTAMP:20260421T120751
CREATED:20151214
LAST-MODIFIED:20151214
UID:263-1451952000-1452038399@staging.almanzora.de
SUMMARY:Purchena: CABALGATA DE REYES
DESCRIPTION:
URL:http://staging.almanzora.de/fiestas/purchena-cabalgata-de-reyes
LOCATION:Plaza Larga  1\, Purchena\, 04870 \, Spain
ORGANIZER;CN="Ayuntamiento%20de%20Purchena":MAILTO:info@juegosmoriscos.com 
END:VEVENT
BEGIN:VEVENT
DTSTART;VALUE=DATE:20160105
DTEND;VALUE=DATE:20160105
DTSTAMP:20260421T120751
CREATED:20151214
LAST-MODIFIED:20151214
UID:286-1451952000-1452038399@staging.almanzora.de
SUMMARY:Zurgena: CABALGATA DE LOS REYES MAGOS
DESCRIPTION:
URL:http://staging.almanzora.de/fiestas/zurgena-cabalgata-de-los-reyes-magos
LOCATION:Zurgena\, 04650 \, Spain
END:VEVENT
END:VCALENDAR